Package: ViSEAGO Version: 1.24.0 Command: /Library/Frameworks/R.framework/Resources/bin/R CMD check --install=check:ViSEAGO.install-out.txt --library=/Library/Frameworks/R.framework/Resources/library --no-vignettes --timings ViSEAGO_1.24.0.tar.gz StartedAt: 2025-11-10 22:58:59 -0500 (Mon, 10 Nov 2025) EndedAt: 2025-11-10 23:00:18 -0500 (Mon, 10 Nov 2025) EllapsedTime: 78.9 seconds RetCode: 0 Status: WARNINGS CheckDir: ViSEAGO.Rcheck Warnings: 4