Package: ViSEAGO Version: 1.24.0 Command: /Library/Frameworks/R.framework/Resources/bin/R CMD INSTALL ViSEAGO StartedAt: 2025-11-17 18:15:57 -0500 (Mon, 17 Nov 2025) EndedAt: 2025-11-17 18:16:10 -0500 (Mon, 17 Nov 2025) EllapsedTime: 13.3 seconds RetCode: 0 Status: OK