Package: ViSEAGO Version: 1.24.0 Command: /Library/Frameworks/R.framework/Resources/bin/R CMD build --keep-empty-dirs --no-resave-data ViSEAGO StartedAt: 2025-11-18 02:11:32 -0500 (Tue, 18 Nov 2025) EndedAt: 2025-11-18 02:12:07 -0500 (Tue, 18 Nov 2025) EllapsedTime: 34.3 seconds RetCode: 0 Status: OK PackageFile: ViSEAGO_1.24.0.tar.gz PackageFileSize: 8.622 MiB