Package: ViSEAGO Version: 1.24.0 Command: rm -rf ViSEAGO.buildbin-libdir && mkdir ViSEAGO.buildbin-libdir && /Users/biocbuild/BBS/utils/build-universal.sh ViSEAGO_1.24.0.tar.gz /Library/Frameworks/R.framework/Resources/bin/R ViSEAGO.buildbin-libdir StartedAt: 2025-11-18 16:37:05 -0500 (Tue, 18 Nov 2025) EndedAt: 2025-11-18 16:37:24 -0500 (Tue, 18 Nov 2025) EllapsedTime: 19.2 seconds RetCode: 0 Status: OK PackageFile: ViSEAGO_1.24.0.tgz PackageFileSize: 9.118 MiB