Package: VennDetail Version: 1.25.3 Command: /home/biocbuild/R/R/bin/R CMD check --install=check:VennDetail.install-out.txt --library=/home/biocbuild/R/R/site-library --no-vignettes --timings VennDetail_1.25.3.tar.gz StartedAt: 2025-10-17 14:51:13 -0000 (Fri, 17 Oct 2025) EndedAt: 2025-10-17 14:52:39 -0000 (Fri, 17 Oct 2025) EllapsedTime: 86.1 seconds RetCode: 0 Status: WARNINGS CheckDir: VennDetail.Rcheck Warnings: 2