Package: VennDetail Version: 1.25.3 Command: /home/biocbuild/R/R/bin/R CMD build --keep-empty-dirs --no-resave-data VennDetail StartedAt: 2025-10-21 04:00:31 -0000 (Tue, 21 Oct 2025) EndedAt: 2025-10-21 04:00:55 -0000 (Tue, 21 Oct 2025) EllapsedTime: 24.0 seconds RetCode: 0 Status: OK PackageFile: VennDetail_1.25.3.tar.gz PackageFileSize: 637 KiB