Package: VennDetail Version: 1.25.3 Command: rm -rf VennDetail.buildbin-libdir && mkdir VennDetail.buildbin-libdir && F:\biocbuild\bbs-3.22-bioc\R\bin\R.exe CMD INSTALL --build --library=VennDetail.buildbin-libdir VennDetail_1.25.3.tar.gz StartedAt: 2025-08-15 11:34:39 -0400 (Fri, 15 Aug 2025) EndedAt: 2025-08-15 11:35:32 -0400 (Fri, 15 Aug 2025) EllapsedTime: 53.0 seconds RetCode: 0 Status: OK PackageFile: VennDetail_1.25.3.zip PackageFileSize: 698.1 KiB