Package: VennDetail Version: 1.25.3 Command: /home/biocbuild/bbs-3.22-bioc/R/bin/R CMD check --install=check:VennDetail.install-out.txt --library=/home/biocbuild/bbs-3.22-bioc/R/site-library --timings VennDetail_1.25.3.tar.gz StartedAt: 2025-10-20 06:07:20 -0400 (Mon, 20 Oct 2025) EndedAt: 2025-10-20 06:08:32 -0400 (Mon, 20 Oct 2025) EllapsedTime: 72.1 seconds RetCode: 0 Status: WARNINGS CheckDir: VennDetail.Rcheck Warnings: 2