Package: VennDetail Version: 1.25.3 Command: /Library/Frameworks/R.framework/Resources/bin/R CMD INSTALL VennDetail StartedAt: 2025-10-19 15:13:39 -0400 (Sun, 19 Oct 2025) EndedAt: 2025-10-19 15:14:15 -0400 (Sun, 19 Oct 2025) EllapsedTime: 36.3 seconds RetCode: 0 Status: OK