Package: VennDetail Version: 1.25.3 Command: /Library/Frameworks/R.framework/Resources/bin/R CMD check --install=check:VennDetail.install-out.txt --library=/Library/Frameworks/R.framework/Resources/library --no-vignettes --timings VennDetail_1.25.3.tar.gz StartedAt: 2025-10-22 01:47:51 -0400 (Wed, 22 Oct 2025) EndedAt: 2025-10-22 01:49:14 -0400 (Wed, 22 Oct 2025) EllapsedTime: 83.7 seconds RetCode: 0 Status: WARNINGS CheckDir: VennDetail.Rcheck Warnings: 2