Package: VennDetail Version: 1.25.3 Command: /Library/Frameworks/R.framework/Resources/bin/R CMD build --keep-empty-dirs --no-resave-data VennDetail StartedAt: 2025-10-19 19:59:56 -0400 (Sun, 19 Oct 2025) EndedAt: 2025-10-19 20:00:25 -0400 (Sun, 19 Oct 2025) EllapsedTime: 28.7 seconds RetCode: 0 Status: OK PackageFile: VennDetail_1.25.3.tar.gz PackageFileSize: 874.1 KiB