Package: VennDetail Version: 1.25.3 Command: rm -rf VennDetail.buildbin-libdir && mkdir VennDetail.buildbin-libdir && /Users/biocbuild/BBS/utils/build-universal.sh VennDetail_1.25.3.tar.gz /Library/Frameworks/R.framework/Resources/bin/R VennDetail.buildbin-libdir StartedAt: 2025-10-20 03:40:00 -0400 (Mon, 20 Oct 2025) EndedAt: 2025-10-20 03:40:16 -0400 (Mon, 20 Oct 2025) EllapsedTime: 15.1 seconds RetCode: 0 Status: OK PackageFile: VennDetail_1.25.3.tgz PackageFileSize: 974.5 KiB