Package: VennDetail Version: 1.25.3 Command: /Library/Frameworks/R.framework/Resources/bin/R CMD INSTALL VennDetail StartedAt: 2025-10-19 15:05:35 -0400 (Sun, 19 Oct 2025) EndedAt: 2025-10-19 15:05:45 -0400 (Sun, 19 Oct 2025) EllapsedTime: 9.9 seconds RetCode: 0 Status: OK