Package: VennDetail Version: 1.25.3 Command: rm -rf VennDetail.buildbin-libdir && mkdir VennDetail.buildbin-libdir && /Users/biocbuild/BBS/utils/build-universal.sh VennDetail_1.25.3.tar.gz /Library/Frameworks/R.framework/Resources/bin/R VennDetail.buildbin-libdir StartedAt: 2025-10-19 23:20:14 -0400 (Sun, 19 Oct 2025) EndedAt: 2025-10-19 23:20:18 -0400 (Sun, 19 Oct 2025) EllapsedTime: 4.1 seconds RetCode: 0 Status: OK PackageFile: VennDetail_1.25.3.tgz PackageFileSize: 978.7 KiB