Package: VennDetail Version: 1.25.3 Maintainer: Kai Guo MaintainerEmail: guokai8 at gmail.com git_url: https://git.bioconductor.org/packages/VennDetail git_branch: devel git_last_commit: 971b7d9 git_last_commit_date: 2025-08-11 21:39:10 -0400 (Mon, 11 Aug 2025)