Package: VegaMC Version: 3.47.0 Command: /home/biocbuild/R/R/bin/R CMD INSTALL VegaMC StartedAt: 2025-10-02 20:48:09 -0000 (Thu, 02 Oct 2025) EndedAt: 2025-10-02 20:48:29 -0000 (Thu, 02 Oct 2025) EllapsedTime: 20.2 seconds RetCode: 0 Status: OK