Package: VegaMC Version: 3.47.0 Command: /home/biocbuild/R/R/bin/R CMD build --keep-empty-dirs --no-resave-data VegaMC StartedAt: 2025-10-03 04:06:37 -0000 (Fri, 03 Oct 2025) EndedAt: 2025-10-03 04:07:09 -0000 (Fri, 03 Oct 2025) EllapsedTime: 32.0 seconds RetCode: 0 Status: OK PackageFile: VegaMC_3.47.0.tar.gz PackageFileSize: 1.763 MiB