Package: VegaMC Version: 3.47.0 Command: rm -rf VegaMC.buildbin-libdir && mkdir VegaMC.buildbin-libdir && F:\biocbuild\bbs-3.22-bioc\R\bin\R.exe CMD INSTALL --build --library=VegaMC.buildbin-libdir VegaMC_3.47.0.tar.gz StartedAt: 2025-08-15 11:34:28 -0400 (Fri, 15 Aug 2025) EndedAt: 2025-08-15 11:34:51 -0400 (Fri, 15 Aug 2025) EllapsedTime: 22.7 seconds RetCode: 0 Status: OK PackageFile: VegaMC_3.47.0.zip PackageFileSize: 1.707 MiB