Package: VegaMC Version: 3.47.0 Command: /Library/Frameworks/R.framework/Resources/bin/R CMD INSTALL VegaMC StartedAt: 2025-09-29 15:24:02 -0400 (Mon, 29 Sep 2025) EndedAt: 2025-09-29 15:24:25 -0400 (Mon, 29 Sep 2025) EllapsedTime: 22.7 seconds RetCode: 0 Status: OK