Package: VegaMC Version: 3.47.0 Command: /Library/Frameworks/R.framework/Resources/bin/R CMD build --keep-empty-dirs --no-resave-data VegaMC StartedAt: 2025-09-30 19:14:25 -0400 (Tue, 30 Sep 2025) EndedAt: 2025-09-30 19:15:01 -0400 (Tue, 30 Sep 2025) EllapsedTime: 35.4 seconds RetCode: 0 Status: OK PackageFile: VegaMC_3.47.0.tar.gz PackageFileSize: 1.775 MiB