Package: VegaMC Version: 3.47.0 Command: /Library/Frameworks/R.framework/Resources/bin/R CMD INSTALL VegaMC StartedAt: 2025-10-02 15:09:23 -0400 (Thu, 02 Oct 2025) EndedAt: 2025-10-02 15:09:29 -0400 (Thu, 02 Oct 2025) EllapsedTime: 5.9 seconds RetCode: 0 Status: OK