Package: VegaMC Version: 3.47.0 Command: /Library/Frameworks/R.framework/Resources/bin/R CMD check --install=check:VegaMC.install-out.txt --library=/Library/Frameworks/R.framework/Resources/library --no-vignettes --timings VegaMC_3.47.0.tar.gz StartedAt: 2025-10-01 22:26:14 -0400 (Wed, 01 Oct 2025) EndedAt: 2025-10-01 22:26:55 -0400 (Wed, 01 Oct 2025) EllapsedTime: 40.5 seconds RetCode: 0 Status: WARNINGS CheckDir: VegaMC.Rcheck Warnings: 2