Package: VegaMC Version: 3.47.0 Command: /Library/Frameworks/R.framework/Resources/bin/R CMD build --keep-empty-dirs --no-resave-data VegaMC StartedAt: 2025-10-01 18:10:09 -0400 (Wed, 01 Oct 2025) EndedAt: 2025-10-01 18:10:22 -0400 (Wed, 01 Oct 2025) EllapsedTime: 13.1 seconds RetCode: 0 Status: OK PackageFile: VegaMC_3.47.0.tar.gz PackageFileSize: 1.777 MiB