Package: VegaMC Version: 3.47.0 Command: rm -rf VegaMC.buildbin-libdir && mkdir VegaMC.buildbin-libdir && /Users/biocbuild/BBS/utils/build-universal.sh VegaMC_3.47.0.tar.gz /Library/Frameworks/R.framework/Resources/bin/R VegaMC.buildbin-libdir StartedAt: 2025-10-01 23:07:25 -0400 (Wed, 01 Oct 2025) EndedAt: 2025-10-01 23:07:33 -0400 (Wed, 01 Oct 2025) EllapsedTime: 8.2 seconds RetCode: 0 Status: OK PackageFile: VegaMC_3.47.0.tgz PackageFileSize: 1.882 MiB