Package: VariantExperiment Version: 1.23.0 Command: /Library/Frameworks/R.framework/Resources/bin/R CMD INSTALL VariantExperiment StartedAt: 2025-10-14 15:15:56 -0400 (Tue, 14 Oct 2025) EndedAt: 2025-10-14 15:16:06 -0400 (Tue, 14 Oct 2025) EllapsedTime: 9.7 seconds RetCode: 0 Status: OK