Package: VariantExperiment Version: 1.23.0 Command: /Library/Frameworks/R.framework/Resources/bin/R CMD build --keep-empty-dirs --no-resave-data VariantExperiment StartedAt: 2025-10-15 18:05:40 -0400 (Wed, 15 Oct 2025) EndedAt: 2025-10-15 18:05:56 -0400 (Wed, 15 Oct 2025) EllapsedTime: 16.2 seconds RetCode: 1 Status: ERROR PackageFile: None PackageFileSize: NA