Package: VaSP Version: 1.21.0 Command: /home/biocbuild/R/R/bin/R CMD build --keep-empty-dirs --no-resave-data VaSP StartedAt: 2025-10-17 05:29:02 -0000 (Fri, 17 Oct 2025) EndedAt: 2025-10-17 05:30:04 -0000 (Fri, 17 Oct 2025) EllapsedTime: 62.1 seconds RetCode: 0 Status: OK PackageFile: VaSP_1.21.0.tar.gz PackageFileSize: 8.456 MiB