Package: VaSP Version: 1.21.0 Command: F:\biocbuild\bbs-3.22-bioc\R\bin\R.exe CMD check --no-multiarch --install=check:VaSP.install-out.txt --library=F:\biocbuild\bbs-3.22-bioc\R\library --no-vignettes --timings VaSP_1.21.0.tar.gz StartedAt: 2025-08-15 09:06:13 -0400 (Fri, 15 Aug 2025) EndedAt: 2025-08-15 09:11:11 -0400 (Fri, 15 Aug 2025) EllapsedTime: 298.5 seconds RetCode: 0 Status: OK CheckDir: VaSP.Rcheck Warnings: 0