Package: VaSP Version: 1.21.0 Command: /home/biocbuild/bbs-3.22-bioc/R/bin/R CMD INSTALL VaSP StartedAt: 2025-10-19 15:30:50 -0400 (Sun, 19 Oct 2025) EndedAt: 2025-10-19 15:31:25 -0400 (Sun, 19 Oct 2025) EllapsedTime: 34.2 seconds RetCode: 0 Status: OK