Package: VaSP Version: 1.21.0 Command: /home/biocbuild/bbs-3.22-bioc/R/bin/R CMD build --keep-empty-dirs --no-resave-data --md5 VaSP StartedAt: 2025-10-19 20:39:32 -0400 (Sun, 19 Oct 2025) EndedAt: 2025-10-19 20:40:18 -0400 (Sun, 19 Oct 2025) EllapsedTime: 46.0 seconds RetCode: 0 Status: OK PackageFile: VaSP_1.21.0.tar.gz PackageFileSize: 8.459 MiB