Package: VaSP Version: 1.21.0 Command: /Library/Frameworks/R.framework/Resources/bin/R CMD INSTALL VaSP StartedAt: 2025-10-19 15:17:12 -0400 (Sun, 19 Oct 2025) EndedAt: 2025-10-19 15:17:26 -0400 (Sun, 19 Oct 2025) EllapsedTime: 14.6 seconds RetCode: 0 Status: OK