Package: VERSO Version: 1.19.1 Command: /home/biocbuild/bbs-3.22-bioc/R/bin/R CMD INSTALL VERSO StartedAt: 2025-10-03 15:06:05 -0400 (Fri, 03 Oct 2025) EndedAt: 2025-10-03 15:06:42 -0400 (Fri, 03 Oct 2025) EllapsedTime: 37.4 seconds RetCode: 0 Status: OK