Package: VERSO Version: 1.19.1 Command: /home/biocbuild/bbs-3.22-bioc/R/bin/R CMD check --install=check:VERSO.install-out.txt --library=/home/biocbuild/bbs-3.22-bioc/R/site-library --timings VERSO_1.19.1.tar.gz StartedAt: 2025-10-04 05:30:04 -0400 (Sat, 04 Oct 2025) EndedAt: 2025-10-04 05:30:35 -0400 (Sat, 04 Oct 2025) EllapsedTime: 31.1 seconds RetCode: 0 Status: OK CheckDir: VERSO.Rcheck Warnings: 0