Package: VDJdive Version: 1.11.0 Command: rm -rf VDJdive.buildbin-libdir && mkdir VDJdive.buildbin-libdir && /Users/biocbuild/BBS/utils/build-universal.sh VDJdive_1.11.0.tar.gz /Library/Frameworks/R.framework/Resources/bin/R VDJdive.buildbin-libdir StartedAt: 2025-10-03 02:27:58 -0400 (Fri, 03 Oct 2025) EndedAt: 2025-10-03 02:28:36 -0400 (Fri, 03 Oct 2025) EllapsedTime: 38.2 seconds RetCode: 0 Status: OK PackageFile: VDJdive_1.11.0.tgz PackageFileSize: 873.8 KiB