Package: VDJdive Version: 1.11.0 Command: /Library/Frameworks/R.framework/Resources/bin/R CMD build --keep-empty-dirs --no-resave-data VDJdive StartedAt: 2025-10-12 17:59:22 -0400 (Sun, 12 Oct 2025) EndedAt: 2025-10-12 17:59:38 -0400 (Sun, 12 Oct 2025) EllapsedTime: 16.2 seconds RetCode: 0 Status: OK PackageFile: VDJdive_1.11.0.tar.gz PackageFileSize: 548.3 KiB