Package: VDJdive Version: 1.11.0 Command: rm -rf VDJdive.buildbin-libdir && mkdir VDJdive.buildbin-libdir && /Users/biocbuild/BBS/utils/build-universal.sh VDJdive_1.11.0.tar.gz /Library/Frameworks/R.framework/Resources/bin/R VDJdive.buildbin-libdir StartedAt: 2025-10-12 22:57:37 -0400 (Sun, 12 Oct 2025) EndedAt: 2025-10-12 22:57:48 -0400 (Sun, 12 Oct 2025) EllapsedTime: 11.2 seconds RetCode: 0 Status: OK PackageFile: VDJdive_1.11.0.tgz PackageFileSize: 875.6 KiB