Package: VAExprs Version: 1.15.0 Command: /home/biocbuild/R/R/bin/R CMD INSTALL VAExprs StartedAt: 2025-10-16 22:22:13 -0000 (Thu, 16 Oct 2025) EndedAt: 2025-10-16 22:23:00 -0000 (Thu, 16 Oct 2025) EllapsedTime: 46.6 seconds RetCode: 0 Status: OK