Package: VAExprs Version: 1.15.0 Command: /home/biocbuild/R/R/bin/R CMD check --install=check:VAExprs.install-out.txt --library=/home/biocbuild/R/R/site-library --no-vignettes --timings VAExprs_1.15.0.tar.gz StartedAt: 2025-10-17 14:48:56 -0000 (Fri, 17 Oct 2025) EndedAt: 2025-10-17 14:54:18 -0000 (Fri, 17 Oct 2025) EllapsedTime: 322.3 seconds RetCode: 0 Status: OK CheckDir: VAExprs.Rcheck Warnings: 0