Package: VAExprs Version: 1.15.0 Command: rm -rf VAExprs.buildbin-libdir && mkdir VAExprs.buildbin-libdir && F:\biocbuild\bbs-3.22-bioc\R\bin\R.exe CMD INSTALL --build --library=VAExprs.buildbin-libdir VAExprs_1.15.0.tar.gz StartedAt: 2025-08-15 11:33:55 -0400 (Fri, 15 Aug 2025) EndedAt: 2025-08-15 11:34:38 -0400 (Fri, 15 Aug 2025) EllapsedTime: 42.7 seconds RetCode: 0 Status: OK PackageFile: VAExprs_1.15.0.zip PackageFileSize: 246.6 KiB