Package: VAExprs Version: 1.15.0 Command: /home/biocbuild/bbs-3.22-bioc/R/bin/R CMD INSTALL VAExprs StartedAt: 2025-10-19 15:57:07 -0400 (Sun, 19 Oct 2025) EndedAt: 2025-10-19 15:57:41 -0400 (Sun, 19 Oct 2025) EllapsedTime: 34.9 seconds RetCode: 0 Status: OK