Package: VAExprs Version: 1.15.0 Command: /Library/Frameworks/R.framework/Resources/bin/R CMD INSTALL VAExprs StartedAt: 2025-10-19 15:29:30 -0400 (Sun, 19 Oct 2025) EndedAt: 2025-10-19 15:29:44 -0400 (Sun, 19 Oct 2025) EllapsedTime: 14.4 seconds RetCode: 0 Status: OK