Package: Uniquorn Version: 2.29.1 Command: /home/biocbuild/R/R/bin/R CMD INSTALL Uniquorn StartedAt: 2025-10-13 21:24:17 -0000 (Mon, 13 Oct 2025) EndedAt: 2025-10-13 21:25:04 -0000 (Mon, 13 Oct 2025) EllapsedTime: 46.5 seconds RetCode: 0 Status: OK