Package: Uniquorn Version: 2.29.1 Command: /home/biocbuild/R/R/bin/R CMD check --install=check:Uniquorn.install-out.txt --library=/home/biocbuild/R/R/site-library --no-vignettes --timings Uniquorn_2.29.1.tar.gz StartedAt: 2025-10-10 15:01:52 -0000 (Fri, 10 Oct 2025) EndedAt: 2025-10-10 15:09:44 -0000 (Fri, 10 Oct 2025) EllapsedTime: 472.0 seconds RetCode: 0 Status: OK CheckDir: Uniquorn.Rcheck Warnings: 0