Package: Uniquorn Version: 2.29.1 Command: F:\biocbuild\bbs-3.22-bioc\R\bin\R.exe CMD INSTALL Uniquorn StartedAt: 2025-08-14 16:38:55 -0400 (Thu, 14 Aug 2025) EndedAt: 2025-08-14 16:39:55 -0400 (Thu, 14 Aug 2025) EllapsedTime: 60.3 seconds RetCode: 0 Status: OK