Package: Uniquorn Version: 2.29.1 Command: chmod a+r Uniquorn -R && F:\biocbuild\bbs-3.22-bioc\R\bin\R.exe CMD build --keep-empty-dirs --no-resave-data Uniquorn StartedAt: 2025-08-14 23:54:41 -0400 (Thu, 14 Aug 2025) EndedAt: 2025-08-14 23:55:41 -0400 (Thu, 14 Aug 2025) EllapsedTime: 59.6 seconds RetCode: 0 Status: OK PackageFile: Uniquorn_2.29.1.tar.gz PackageFileSize: 2.196 MiB