Package: Uniquorn Version: 2.29.1 Command: /home/biocbuild/bbs-3.22-bioc/R/bin/R CMD INSTALL Uniquorn StartedAt: 2025-10-10 15:51:59 -0400 (Fri, 10 Oct 2025) EndedAt: 2025-10-10 15:52:37 -0400 (Fri, 10 Oct 2025) EllapsedTime: 38.7 seconds RetCode: 0 Status: OK