Package: Uniquorn Version: 2.29.1 Command: /Library/Frameworks/R.framework/Resources/bin/R CMD check --install=check:Uniquorn.install-out.txt --library=/Library/Frameworks/R.framework/Resources/library --no-vignettes --timings Uniquorn_2.29.1.tar.gz StartedAt: 2025-10-16 02:13:40 -0400 (Thu, 16 Oct 2025) EndedAt: 2025-10-16 02:18:58 -0400 (Thu, 16 Oct 2025) EllapsedTime: 317.4 seconds RetCode: 0 Status: OK CheckDir: Uniquorn.Rcheck Warnings: 0