Package: Uniquorn Version: 2.29.1 Command: /Library/Frameworks/R.framework/Resources/bin/R CMD build --keep-empty-dirs --no-resave-data Uniquorn StartedAt: 2025-10-15 19:52:34 -0400 (Wed, 15 Oct 2025) EndedAt: 2025-10-15 19:53:22 -0400 (Wed, 15 Oct 2025) EllapsedTime: 48.0 seconds RetCode: 0 Status: OK PackageFile: Uniquorn_2.29.1.tar.gz PackageFileSize: 2.196 MiB