Package: Ularcirc Version: 1.27.0 Command: chmod a+r Ularcirc -R && F:\biocbuild\bbs-3.22-bioc\R\bin\R.exe CMD build --keep-empty-dirs --no-resave-data Ularcirc StartedAt: 2025-08-14 23:54:05 -0400 (Thu, 14 Aug 2025) EndedAt: 2025-08-14 23:54:08 -0400 (Thu, 14 Aug 2025) EllapsedTime: 3.0 seconds RetCode: 1 Status: ERROR PackageFile: None PackageFileSize: NA