Package: UPDhmm Version: 1.5.1 Command: /home/biocbuild/R/R/bin/R CMD INSTALL UPDhmm StartedAt: 2025-10-23 21:04:42 -0000 (Thu, 23 Oct 2025) EndedAt: 2025-10-23 21:04:44 -0000 (Thu, 23 Oct 2025) EllapsedTime: 2.0 seconds RetCode: 0 Status: OK